BEGIN:VCALENDAR
VERSION:2.0
PRODID:-//ASKÖ WSK Linz - ECPv6.14.2//NONSGML v1.0//EN
CALSCALE:GREGORIAN
METHOD:PUBLISH
X-ORIGINAL-URL:http://askoe-wsk-linz.at
X-WR-CALDESC:Veranstaltungen für ASKÖ WSK Linz
REFRESH-INTERVAL;VALUE=DURATION:PT1H
X-Robots-Tag:noindex
X-PUBLISHED-TTL:PT1H
BEGIN:VTIMEZONE
TZID:Europe/Vienna
BEGIN:DAYLIGHT
TZOFFSETFROM:+0100
TZOFFSETTO:+0200
TZNAME:CEST
DTSTART:20200329T010000
END:DAYLIGHT
BEGIN:STANDARD
TZOFFSETFROM:+0200
TZOFFSETTO:+0100
TZNAME:CET
DTSTART:20201025T010000
END:STANDARD
END:VTIMEZONE
BEGIN:VEVENT
DTSTART;TZID=Europe/Vienna:20200207T130000
DTEND;TZID=Europe/Vienna:20200207T140000
DTSTAMP:20260421T024206
CREATED:20200201T222432Z
LAST-MODIFIED:20200201T223626Z
UID:10000153-1581080400-1581084000@askoe-wsk-linz.at
SUMMARY:Verabschiedung Norbert Händlhuber
DESCRIPTION:
URL:http://askoe-wsk-linz.at/event/verabschiedung-norbert-haendlhuber/
LOCATION:Urnenhain\, Urnenhainweg 8\, Linz Urfahr\, 4040\, Österreich
CATEGORIES:Sonstiges
END:VEVENT
END:VCALENDAR