BEGIN:VCALENDAR
VERSION:2.0
PRODID:-//ASKÖ WSK Linz - ECPv6.14.2//NONSGML v1.0//EN
CALSCALE:GREGORIAN
METHOD:PUBLISH
X-ORIGINAL-URL:http://askoe-wsk-linz.at
X-WR-CALDESC:Veranstaltungen für ASKÖ WSK Linz
REFRESH-INTERVAL;VALUE=DURATION:PT1H
X-Robots-Tag:noindex
X-PUBLISHED-TTL:PT1H
BEGIN:VTIMEZONE
TZID:Europe/Vienna
BEGIN:DAYLIGHT
TZOFFSETFROM:+0100
TZOFFSETTO:+0200
TZNAME:CEST
DTSTART:20160327T010000
END:DAYLIGHT
BEGIN:STANDARD
TZOFFSETFROM:+0200
TZOFFSETTO:+0100
TZNAME:CET
DTSTART:20161030T010000
END:STANDARD
BEGIN:DAYLIGHT
TZOFFSETFROM:+0100
TZOFFSETTO:+0200
TZNAME:CEST
DTSTART:20170326T010000
END:DAYLIGHT
BEGIN:STANDARD
TZOFFSETFROM:+0200
TZOFFSETTO:+0100
TZNAME:CET
DTSTART:20171029T010000
END:STANDARD
END:VTIMEZONE
BEGIN:VEVENT
DTSTART;VALUE=DATE:20170408
DTEND;VALUE=DATE:20170409
DTSTAMP:20260421T053629
CREATED:20160316T195312Z
LAST-MODIFIED:20170404T221234Z
UID:10000228-1491609600-1491695999@askoe-wsk-linz.at
SUMMARY:Arbeitseinsatz Schlögen
DESCRIPTION:
URL:http://askoe-wsk-linz.at/event/arbeitseinsatz-schloegen/
LOCATION:Schlögen\, Schlögen\, Österreich
CATEGORIES:Arbeitseinsatz
GEO:48.42418;13.87139
END:VEVENT
BEGIN:VEVENT
DTSTART;TZID=Europe/Vienna:20161015T090000
DTEND;TZID=Europe/Vienna:20161015T180000
DTSTAMP:20260421T053629
CREATED:20161006T181554Z
LAST-MODIFIED:20161006T181554Z
UID:10000239-1476522000-1476554400@askoe-wsk-linz.at
SUMMARY:Arbeitseinsatz Schlögen
DESCRIPTION:
URL:http://askoe-wsk-linz.at/event/arbeitseinsatz-schloegen-2/
LOCATION:Schlögen\, Schlögen\, Österreich
CATEGORIES:Arbeitseinsatz
GEO:48.42418;13.87139
END:VEVENT
BEGIN:VEVENT
DTSTART;TZID=Europe/Vienna:20160521T160000
DTEND;TZID=Europe/Vienna:20160521T235500
DTSTAMP:20260421T053629
CREATED:20160510T101047Z
LAST-MODIFIED:20160510T101201Z
UID:10000234-1463846400-1463874900@askoe-wsk-linz.at
SUMMARY:Saisonauftakt 2016 in Schlögen
DESCRIPTION:
URL:http://askoe-wsk-linz.at/event/saisonauftakt-2016/
LOCATION:Schlögen\, Schlögen\, Österreich
CATEGORIES:Sonstiges
GEO:48.42418;13.87139
END:VEVENT
END:VCALENDAR