BEGIN:VCALENDAR
VERSION:2.0
PRODID:-//ASKÖ WSK Linz - ECPv6.14.2//NONSGML v1.0//EN
CALSCALE:GREGORIAN
METHOD:PUBLISH
X-WR-CALNAME:ASKÖ WSK Linz
X-ORIGINAL-URL:http://askoe-wsk-linz.at
X-WR-CALDESC:Veranstaltungen für ASKÖ WSK Linz
REFRESH-INTERVAL;VALUE=DURATION:PT1H
X-Robots-Tag:noindex
X-PUBLISHED-TTL:PT1H
BEGIN:VTIMEZONE
TZID:Europe/Vienna
BEGIN:DAYLIGHT
TZOFFSETFROM:+0100
TZOFFSETTO:+0200
TZNAME:CEST
DTSTART:20260329T010000
END:DAYLIGHT
BEGIN:STANDARD
TZOFFSETFROM:+0200
TZOFFSETTO:+0100
TZNAME:CET
DTSTART:20261025T010000
END:STANDARD
END:VTIMEZONE
BEGIN:VEVENT
DTSTART;TZID=Europe/Vienna:20260501T100000
DTEND;TZID=Europe/Vienna:20260501T180000
DTSTAMP:20260424T134845
CREATED:20260422T064819Z
LAST-MODIFIED:20260422T064819Z
UID:10000401-1777629600-1777658400@askoe-wsk-linz.at
SUMMARY:Maiaufmarsch
DESCRIPTION:
URL:http://askoe-wsk-linz.at/event/maiaufmarsch-7/
LOCATION:Maiaufmarsch\, Goethekreuzung\, Linz
CATEGORIES:Sonstiges
GEO:48.296201;14.291928
X-APPLE-STRUCTURED-LOCATION;VALUE=URI;X-ADDRESS=Maiaufmarsch Goethekreuzung Linz;X-APPLE-RADIUS=500;X-TITLE=Goethekreuzung:geo:14.291928,48.296201
END:VEVENT
END:VCALENDAR